BEGIN:VCALENDAR
VERSION:2.0
PRODID:-//The Range by Jimmy Primos - ECPv6.3.1//NONSGML v1.0//EN
CALSCALE:GREGORIAN
METHOD:PUBLISH
X-ORIGINAL-URL:https://rangebyjimmyprimos.com
X-WR-CALDESC:Events for The Range by Jimmy Primos
REFRESH-INTERVAL;VALUE=DURATION:PT1H
X-Robots-Tag:noindex
X-PUBLISHED-TTL:PT1H
BEGIN:VTIMEZONE
TZID:UTC
BEGIN:STANDARD
TZOFFSETFROM:+0000
TZOFFSETTO:+0000
TZNAME:UTC
DTSTART:20260101T000000
END:STANDARD
END:VTIMEZONE
BEGIN:VEVENT
DTSTART;TZID=UTC:20260110T100000
DTEND;TZID=UTC:20260110T120000
DTSTAMP:20260423T032459
CREATED:20251204T175651Z
LAST-MODIFIED:20251204T175651Z
UID:2395-1768039200-1768046400@rangebyjimmyprimos.com
SUMMARY:Ladies Only Beginner Course
DESCRIPTION:
URL:https://rangebyjimmyprimos.com/event/ladies-only-beginner-course/
END:VEVENT
END:VCALENDAR