BEGIN:VCALENDAR
VERSION:2.0
PRODID:-//The Range by Jimmy Primos - ECPv6.3.1//NONSGML v1.0//EN
CALSCALE:GREGORIAN
METHOD:PUBLISH
X-WR-CALNAME:The Range by Jimmy Primos
X-ORIGINAL-URL:https://rangebyjimmyprimos.com
X-WR-CALDESC:Events for The Range by Jimmy Primos
REFRESH-INTERVAL;VALUE=DURATION:PT1H
X-Robots-Tag:noindex
X-PUBLISHED-TTL:PT1H
BEGIN:VTIMEZONE
TZID:UTC
BEGIN:STANDARD
TZOFFSETFROM:+0000
TZOFFSETTO:+0000
TZNAME:UTC
DTSTART:20250101T000000
END:STANDARD
END:VTIMEZONE
BEGIN:VEVENT
DTSTART;TZID=UTC:20250605T173000
DTEND;TZID=UTC:20250605T190000
DTSTAMP:20260423T090018
CREATED:20250314T183855Z
LAST-MODIFIED:20250314T183855Z
UID:2140-1749144600-1749150000@rangebyjimmyprimos.com
SUMMARY:First Shot Class
DESCRIPTION:
URL:https://rangebyjimmyprimos.com/event/first-shot-class-5/
END:VEVENT
BEGIN:VEVENT
DTSTART;TZID=UTC:20250607T100000
DTEND;TZID=UTC:20250607T180000
DTSTAMP:20260423T090018
CREATED:20250314T184057Z
LAST-MODIFIED:20250314T184057Z
UID:2142-1749290400-1749319200@rangebyjimmyprimos.com
SUMMARY:Enhanced Conceal Carry
DESCRIPTION:
URL:https://rangebyjimmyprimos.com/event/enhanced-conceal-carry-35/
END:VEVENT
BEGIN:VEVENT
DTSTART;TZID=UTC:20250612T173000
DTEND;TZID=UTC:20250612T203000
DTSTAMP:20260423T090018
CREATED:20250314T184158Z
LAST-MODIFIED:20250314T184158Z
UID:2144-1749749400-1749760200@rangebyjimmyprimos.com
SUMMARY:Fundamentals of Defensive Shooting
DESCRIPTION:
URL:https://rangebyjimmyprimos.com/event/fundamentals-of-defensive-shooting-6/
END:VEVENT
BEGIN:VEVENT
DTSTART;TZID=UTC:20250621T100000
DTEND;TZID=UTC:20250621T180000
DTSTAMP:20260423T090018
CREATED:20250314T184427Z
LAST-MODIFIED:20250314T184427Z
UID:2146-1750500000-1750528800@rangebyjimmyprimos.com
SUMMARY:Ladies Enhanced Conceal Carry
DESCRIPTION:
URL:https://rangebyjimmyprimos.com/event/ladies-enhanced-conceal-carry-23/
END:VEVENT
BEGIN:VEVENT
DTSTART;TZID=UTC:20250622T150000
DTEND;TZID=UTC:20250622T163000
DTSTAMP:20260423T090018
CREATED:20250314T184509Z
LAST-MODIFIED:20250314T184509Z
UID:2148-1750604400-1750609800@rangebyjimmyprimos.com
SUMMARY:First Shot Class
DESCRIPTION:
URL:https://rangebyjimmyprimos.com/event/first-shot-class-6/
END:VEVENT
BEGIN:VEVENT
DTSTART;TZID=UTC:20250623T173000
DTEND;TZID=UTC:20250624T213000
DTSTAMP:20260423T090018
CREATED:20250314T184600Z
LAST-MODIFIED:20250314T184600Z
UID:2150-1750699800-1750800600@rangebyjimmyprimos.com
SUMMARY:Ladies Enhanced Conceal Carry
DESCRIPTION:
URL:https://rangebyjimmyprimos.com/event/ladies-enhanced-conceal-carry-24/
END:VEVENT
BEGIN:VEVENT
DTSTART;TZID=UTC:20250626T173000
DTEND;TZID=UTC:20250626T203000
DTSTAMP:20260423T090018
CREATED:20250314T184710Z
LAST-MODIFIED:20250314T184710Z
UID:2152-1750959000-1750969800@rangebyjimmyprimos.com
SUMMARY:Fundamentals of Defensive Shooting
DESCRIPTION:
URL:https://rangebyjimmyprimos.com/event/fundamentals-of-defensive-shooting-7/
END:VEVENT
BEGIN:VEVENT
DTSTART;TZID=UTC:20250629T140000
DTEND;TZID=UTC:20250629T170000
DTSTAMP:20260423T090018
CREATED:20250314T184752Z
LAST-MODIFIED:20250314T184752Z
UID:2154-1751205600-1751216400@rangebyjimmyprimos.com
SUMMARY:Basic Handgun Class
DESCRIPTION:
URL:https://rangebyjimmyprimos.com/event/basic-handgun-class-6/
END:VEVENT
END:VCALENDAR